BEGIN:VCALENDAR
VERSION:2.0
PRODID:-//wp-events-plugin.com//7.2.3.1//EN
TZID:America/Detroit
X-WR-TIMEZONE:America/Detroit
BEGIN:VEVENT
UID:1350@votingaccessforall.org
DTSTART;TZID=America/Detroit:20261027T000000
DTEND;TZID=America/Detroit:20261027T000000
DTSTAMP:20260312T153949Z
URL:https://votingaccessforall.org/events/vote-early-day/
SUMMARY:Vote Early Day
DESCRIPTION:Vote Early Day is a nonpartisan movement of media companies\, b
 usinesses\, nonprofits\, election administrators\, and creatives working t
 o ensure all Americans have the tools to vote early.\n\n\n\n\n\n\nVote Ear
 ly Day was founded by MTV as a new civic holiday focused on helping every 
 voter know how\, where\, and when they can vote early. Launched in the mid
 st of a global pandemic\, Vote Early Day became a critical resource to ens
 ure no voter had to choose between their health and casting their ballot. 
 In its first celebration\, Vote Early Day attracted 134 premier partners a
 nd 2\,700 general partners from every state in the nation. Over 3\,000\,00
 0 voters cast their ballots on Vote Early Day alone.\n\n\n\n\n\n\n\n\n
ATTACH;FMTTYPE=image/jpeg:https://votingaccessforall.org/wp-content/upload
 s/2026/03/Copy-of-Vote-Early-Day-Customizable-Graphics-Logos-2025-1.jpg
CATEGORIES:Community Events
END:VEVENT
BEGIN:VTIMEZONE
TZID:America/Detroit
X-LIC-LOCATION:America/Detroit
BEGIN:DAYLIGHT
DTSTART:20260308T030000
TZOFFSETFROM:-0500
TZOFFSETTO:-0400
TZNAME:EDT
END:DAYLIGHT
END:VTIMEZONE
END:VCALENDAR