BEGIN:VCALENDAR
VERSION:2.0
PRODID:-//wp-events-plugin.com//7.2.3.1//EN
TZID:America/Detroit
X-WR-TIMEZONE:America/Detroit
BEGIN:VEVENT
UID:963@votingaccessforall.org
DTSTART;TZID=America/Detroit:20250414T100000
DTEND;TZID=America/Detroit:20250414T150000
DTSTAMP:20250409T201817Z
URL:https://votingaccessforall.org/events/the-nation-outside-reentry-confe
 rence/
SUMMARY:The Nation Outside Reentry Conference
DESCRIPTION:\nJoin Nation Outside for an engaging reentry simulation and di
 scussion where policymakers\, advocates\, and community members like yours
 elf will explore the challenges faced by formerly incarcerated individuals
  and discuss about how we can collaboratively develop solutions that enhan
 ce workforce development and community safety.\n\n\n\nJoin the exclusive g
 roup of 250 attendees for this new and innovative experience.\n\n\n\n4/14/
 2025 from 10:00 AM - 03:00 PM ET\n\n\n\nLansing Center333 E Michigan AveLa
 nsing\, MI 48933United States of America\n
CATEGORIES:Community Events
LOCATION:Lansing Center\, 333 E Michigan Ave\, Lansing\, MI\, Lansing\, Uni
 ted States
GEO:42.734138;-84.548264
X-APPLE-STRUCTURED-LOCATION;VALUE=URI;X-ADDRESS=333 E Michigan Ave\, Lansin
 g\, MI\, Lansing\, United States;X-APPLE-RADIUS=100;X-TITLE=Lansing Center
 :geo:42.734138,-84.548264
END:VEVENT
BEGIN:VTIMEZONE
TZID:America/Detroit
X-LIC-LOCATION:America/Detroit
BEGIN:DAYLIGHT
DTSTART:20250309T030000
TZOFFSETFROM:-0500
TZOFFSETTO:-0400
TZNAME:EDT
END:DAYLIGHT
END:VTIMEZONE
END:VCALENDAR