BEGIN:VCALENDAR
VERSION:2.0
PRODID:-//wp-events-plugin.com//7.2.3.1//EN
TZID:America/Detroit
X-WR-TIMEZONE:America/Detroit
BEGIN:VEVENT
UID:769@votingaccessforall.org
DTSTART;TZID=America/Detroit:20240718T140000
DTEND;TZID=America/Detroit:20240718T170000
DTSTAMP:20240718T220308Z
URL:https://votingaccessforall.org/events/stage-on-main-rhythm-unbound/
SUMMARY:Stage on Main: Rhythm Unbound
DESCRIPTION:\nCheck out our spectacular lineup for the Stage on Main this T
 hursday!! These brilliant musicians and poets will take the stage between 
 2 and 5pm. Stop by the tent on the corner of Main and William and enjoy so
 me shade and some entertainment!\n
CATEGORIES:Community Events
END:VEVENT
BEGIN:VTIMEZONE
TZID:America/Detroit
X-LIC-LOCATION:America/Detroit
BEGIN:DAYLIGHT
DTSTART:20240310T030000
TZOFFSETFROM:-0500
TZOFFSETTO:-0400
TZNAME:EDT
END:DAYLIGHT
END:VTIMEZONE
END:VCALENDAR