BEGIN:VCALENDAR
VERSION:2.0
PRODID:-//wp-events-plugin.com//7.2.3.1//EN
TZID:America/Detroit
X-WR-TIMEZONE:America/Detroit
BEGIN:VEVENT
UID:1249@votingaccessforall.org
DTSTART;TZID=America/Detroit:20251122T100000
DTEND;TZID=America/Detroit:20251122T150000
DTSTAMP:20251120T164933Z
URL:https://votingaccessforall.org/events/small-business-pop-up-fair-and-b
 ra-giveaway/
SUMMARY:Small Business Pop-up Fair and Bra Giveaway
DESCRIPTION:Join State Representative Kimberly Edwards for her upcoming Sm
 all Business Pop-up Fair and Bra Giveaway with special guest Silent Cry In
 c. at the Ford Resource and Engagement Center Eastside\, 15491 Maddelein S
 t. in Detroit\, on Saturday\, November 22\, from 10 a.m. to 3 p.m.
ATTACH;FMTTYPE=image/jpeg:https://votingaccessforall.org/wp-content/upload
 s/2025/11/47E52BB6-EA25-4D97-BD96-F48B980D94DA-scaled.jpg
CATEGORIES:Community Events
LOCATION:Ford Resource and Engagement Center Eastside\, 15491 Maddelein St.
 \, Detroit\, MI\, 48205\, United States
GEO:42.437084;-82.961834
X-APPLE-STRUCTURED-LOCATION;VALUE=URI;X-ADDRESS=15491 Maddelein St.\, Detro
 it\, MI\, 48205\, United States;X-APPLE-RADIUS=100;X-TITLE=Ford Resource a
 nd Engagement Center Eastside:geo:42.437084,-82.961834
END:VEVENT
BEGIN:VTIMEZONE
TZID:America/Detroit
X-LIC-LOCATION:America/Detroit
BEGIN:STANDARD
DTSTART:20251102T010000
TZOFFSETFROM:-0400
TZOFFSETTO:-0500
TZNAME:EST
END:STANDARD
END:VTIMEZONE
END:VCALENDAR