BEGIN:VCALENDAR
VERSION:2.0
PRODID:-//wp-events-plugin.com//7.2.3.1//EN
TZID:America/Detroit
X-WR-TIMEZONE:America/Detroit
BEGIN:VEVENT
UID:1368@votingaccessforall.org
DTSTART;TZID=America/Detroit:20260418T120000
DTEND;TZID=America/Detroit:20260418T140000
DTSTAMP:20260330T174552Z
URL:https://votingaccessforall.org/events/returning-citizens-and-voting-ri
 ghts-town-hall/
SUMMARY:Returning Citizens and Voting Rights Town Hall
DESCRIPTION:Come to a Returning Citizens and Voting Rights Town Hall to dis
 cuss your rights at the polls\, combat misinformation about voting and pro
 vide resources for people impacted by the prison system who would like to 
 have their voices heard. There will also be special presentations from Dep
 uty Secretary of State Aghogho Edevbie and Voting Access for All.\n\nThis 
 event will be held on Saturday\, April 18\, from 12 to 2 p.m. at the Ford 
 Resource and Engagement Center Eastside (15491 Maddelein St. in Detroit).\
 n\n
ATTACH;FMTTYPE=image/jpeg:https://votingaccessforall.org/wp-content/upload
 s/2026/03/656714676_1658321908508814_3909402381133834593_n.jpg
CATEGORIES:Town Hall
LOCATION:Ford Resource and Engagement Center Eastside\, 15491 Maddelein St.
 \, Detroit\, MI\, 48205\, United States
GEO:42.437084;-82.961834
X-APPLE-STRUCTURED-LOCATION;VALUE=URI;X-ADDRESS=15491 Maddelein St.\, Detro
 it\, MI\, 48205\, United States;X-APPLE-RADIUS=100;X-TITLE=Ford Resource a
 nd Engagement Center Eastside:geo:42.437084,-82.961834
END:VEVENT
BEGIN:VTIMEZONE
TZID:America/Detroit
X-LIC-LOCATION:America/Detroit
BEGIN:DAYLIGHT
DTSTART:20260308T030000
TZOFFSETFROM:-0500
TZOFFSETTO:-0400
TZNAME:EDT
END:DAYLIGHT
END:VTIMEZONE
END:VCALENDAR