BEGIN:VCALENDAR
VERSION:2.0
PRODID:-//wp-events-plugin.com//7.2.3.1//EN
TZID:America/Detroit
X-WR-TIMEZONE:America/Detroit
BEGIN:VEVENT
UID:58@votingaccessforall.org
DTSTART;TZID=America/Detroit:20221004T170000
DTEND;TZID=America/Detroit:20221004T190000
DTSTAMP:20220927T163810Z
URL:https://votingaccessforall.org/events/returned-citizen-resource-fair-w
 ith-a-brighter-way-in-ann-arbor/
SUMMARY:Returned Citizen Resource Fair with A Brighter Way in Ann Arbor
DESCRIPTION:VAAC co-sponsors this special event\, Returned Citizen Resource
  Fair\, hosted by A Brighter Way at Washtenaw Community College\, 4800 E H
 uron River Dr\, Ann Arbor\, MI 48105.\n\n&nbsp\;\n
ATTACH;FMTTYPE=image/jpeg:https://votingaccessforall.org/wp-content/upload
 s/2022/09/a-brighter-way-returning-citizens.jpeg
END:VEVENT
BEGIN:VTIMEZONE
TZID:America/Detroit
X-LIC-LOCATION:America/Detroit
BEGIN:DAYLIGHT
DTSTART:20220313T030000
TZOFFSETFROM:-0500
TZOFFSETTO:-0400
TZNAME:EDT
END:DAYLIGHT
END:VTIMEZONE
END:VCALENDAR