BEGIN:VCALENDAR
VERSION:2.0
PRODID:-//wp-events-plugin.com//7.2.3.1//EN
TZID:America/Detroit
X-WR-TIMEZONE:America/Detroit
BEGIN:VEVENT
UID:1369@votingaccessforall.org
DTSTART;TZID=America/Detroit:20260411T100000
DTEND;TZID=America/Detroit:20260411T140000
DTSTAMP:20260330T175724Z
URL:https://votingaccessforall.org/events/pullover-prevention-and-mutual-a
 id-fair-in-ypsi/
SUMMARY:Pullover Prevention and Mutual Aid Fair in Ypsi
DESCRIPTION:Pullover Prevention is coming up in April! They’ll be at Grac
 e Fellowship in Ypsi. And in addition to minor car repairs they are also o
 ffering mending and a repair clinic for household items and small applianc
 es! Save money and fix your things. They are also doing a tent and camping
  supply drive for Peace House.\n\nApril 11th from 10am-2pm at Grace Fellow
 ship\, 1301 South Harris\, Ypsilanti\n\n 
ATTACH;FMTTYPE=image/jpeg:https://votingaccessforall.org/wp-content/upload
 s/2026/03/656849795_18015566393817762_8347857010227666586_n.jpg
CATEGORIES:Community Events
END:VEVENT
BEGIN:VTIMEZONE
TZID:America/Detroit
X-LIC-LOCATION:America/Detroit
BEGIN:DAYLIGHT
DTSTART:20260308T030000
TZOFFSETFROM:-0500
TZOFFSETTO:-0400
TZNAME:EDT
END:DAYLIGHT
END:VTIMEZONE
END:VCALENDAR