BEGIN:VCALENDAR
VERSION:2.0
PRODID:-//wp-events-plugin.com//7.2.3.1//EN
TZID:America/Detroit
X-WR-TIMEZONE:America/Detroit
BEGIN:VEVENT
UID:1248@votingaccessforall.org
DTSTART;TZID=America/Detroit:20251129T120000
DTEND;TZID=America/Detroit:20251129T120000
DTSTAMP:20251113T174208Z
URL:https://votingaccessforall.org/events/michigans-turning-point-a-call-t
 o-action-demanding-justice/
SUMMARY:Michigan's Turning Point: A Call to Action Demanding Justice
DESCRIPTION:VAAC at Michigan’s Turning Point: A Call to Action for Justic
 eSaturday\, November 29\, 2025Doors open at 12 PMGodland Unity Church22450
  Schoolcraft\, Detroit\, MI 48223\, near I-96 Service Road\nVAAC is honore
 d to join National Lifers of America\, Inc. Macomb Chapter 1012 and commun
 ity partners for Michigan’s Turning Point: A Call to Action Demanding Ju
 stice. This gathering will uplift the voices of families\, advocates\, and
  directly impacted loved ones fighting for change across Michigan.\nThe ev
 ent will feature a wide-ranging panel discussion on criminal justice refor
 m\, legislative and judicial accountability\, prosecution practices\, ment
 al health awareness\, and the impact the system has on families and commun
 ities. Participants will also hear directly from incarcerated individuals 
 calling in to share their experiences.\nVAAC will be present to speak abou
 t building civic power\, including how voting and ballot initiatives give 
 communities tools to push for the justice and accountability we need. We
 ’ll also be sharing vital information about voting rights for returning 
 citizens\, people affected by the legal system\, and anyone unsure of thei
 r eligibility.\nAdmission is free. All are welcome.
ATTACH;FMTTYPE=image/jpeg:https://votingaccessforall.org/wp-content/upload
 s/2025/11/Screenshot-2025-11-13-at-12.28.29-PM.jpeg
CATEGORIES:Community Events
LOCATION:Godland Unity Church\, 22450 Schoolcraft Rd.\, Detroit\, 48223\, 4
 8223\, United States
GEO:42.38658;-83.262761
X-APPLE-STRUCTURED-LOCATION;VALUE=URI;X-ADDRESS=22450 Schoolcraft Rd.\, Det
 roit\, 48223\, 48223\, United States;X-APPLE-RADIUS=100;X-TITLE=Godland Un
 ity Church:geo:42.38658,-83.262761
END:VEVENT
BEGIN:VTIMEZONE
TZID:America/Detroit
X-LIC-LOCATION:America/Detroit
BEGIN:STANDARD
DTSTART:20251102T010000
TZOFFSETFROM:-0400
TZOFFSETTO:-0500
TZNAME:EST
END:STANDARD
END:VTIMEZONE
END:VCALENDAR