BEGIN:VCALENDAR
VERSION:2.0
PRODID:-//wp-events-plugin.com//7.2.3.1//EN
TZID:America/Detroit
X-WR-TIMEZONE:America/Detroit
BEGIN:VEVENT
UID:1277@votingaccessforall.org
DTSTART;TZID=America/Detroit:20260723T000000
DTEND;TZID=America/Detroit:20260724T000000
DTSTAMP:20260122T195722Z
URL:https://votingaccessforall.org/events/michigan-justice-fund-annual-sum
 mit/
SUMMARY:Michigan Justice Fund Annual Summit
DESCRIPTION:
ATTACH;FMTTYPE=image/jpeg:https://votingaccessforall.org/wp-content/upload
 s/2026/01/michigan_justice_fund_logo.jpeg
CATEGORIES:Community Events
END:VEVENT
BEGIN:VTIMEZONE
TZID:America/Detroit
X-LIC-LOCATION:America/Detroit
BEGIN:DAYLIGHT
DTSTART:20260308T030000
TZOFFSETFROM:-0500
TZOFFSETTO:-0400
TZNAME:EDT
END:DAYLIGHT
END:VTIMEZONE
END:VCALENDAR