BEGIN:VCALENDAR
VERSION:2.0
PRODID:-//wp-events-plugin.com//7.2.3.1//EN
TZID:America/Detroit
X-WR-TIMEZONE:America/Detroit
BEGIN:VEVENT
UID:577@votingaccessforall.org
DTSTART;TZID=America/Detroit:20240318T100000
DTEND;TZID=America/Detroit:20240318T110000
DTSTAMP:20240202T193945Z
URL:https://votingaccessforall.org/events/coffee-hours-sen-john-cherry-2/
SUMMARY:Coffee Hours: Sen. John Cherry
DESCRIPTION:\nMonday\, March 18 10:00-11:00AM \n\n\n\nMundy Township Senior
  and Enrichment Center - 3478 Mundy Ave.\, Swartz Creek\n\n\n\n\n
CATEGORIES:Coffee Hours
LOCATION:Mundy Township Senior and Enrichment Center\, 3478 Mundy Ave\, Swa
 rtz Creek\, United States
GEO:42.918143;-83.748384
X-APPLE-STRUCTURED-LOCATION;VALUE=URI;X-ADDRESS=3478 Mundy Ave\, Swartz Cre
 ek\, United States;X-APPLE-RADIUS=100;X-TITLE=Mundy Township Senior and En
 richment Center:geo:42.918143,-83.748384
END:VEVENT
BEGIN:VTIMEZONE
TZID:America/Detroit
X-LIC-LOCATION:America/Detroit
BEGIN:DAYLIGHT
DTSTART:20240310T030000
TZOFFSETFROM:-0500
TZOFFSETTO:-0400
TZNAME:EDT
END:DAYLIGHT
END:VTIMEZONE
END:VCALENDAR