BEGIN:VCALENDAR
VERSION:2.0
PRODID:-//wp-events-plugin.com//7.2.3.1//EN
TZID:America/Detroit
X-WR-TIMEZONE:America/Detroit
BEGIN:VEVENT
UID:1403@votingaccessforall.org
DTSTART;TZID=America/Detroit:20260428T120000
DTEND;TZID=America/Detroit:20260428T120000
DTSTAMP:20260417T005158Z
URL:https://votingaccessforall.org/events/clean-slate-turns-five-clean-sla
 te-2-0-and-what-happens-next/
SUMMARY:Clean Slate Turns Five: Clean Slate 2.0 and What Happens Next
DESCRIPTION:With the recent five-year anniversary of Michigan’s Clean Sla
 te law going into effect\, Safe &amp\; Just Michigan sought to reflect on 
 the notable impact that the law has had since its inception\, as well as a
 ddressing shortcomings in the law that have arisen over the last five year
 s.Join us for a discussion with Michigan Advocacy Program and Project C
 lean Slate on April 28 at noon to learn more.\n\nRegister Now: https://app
 .etapestry.com/onlineforms/SafeandJustMichigan/CSfiveyear.html
ATTACH;FMTTYPE=image/jpeg:https://votingaccessforall.org/wp-content/upload
 s/2026/04/672666139_1396787849160084_2625382064544111290_n.jpg
CATEGORIES:Community Events
LOCATION:https://app.etapestry.com/onlineforms/SafeandJustMichigan/CSfiveye
 ar.html
END:VEVENT
BEGIN:VTIMEZONE
TZID:America/Detroit
X-LIC-LOCATION:America/Detroit
BEGIN:DAYLIGHT
DTSTART:20260308T030000
TZOFFSETFROM:-0500
TZOFFSETTO:-0400
TZNAME:EDT
END:DAYLIGHT
END:VTIMEZONE
END:VCALENDAR