BEGIN:VCALENDAR
VERSION:2.0
PRODID:-//wp-events-plugin.com//7.2.3.1//EN
TZID:America/Detroit
X-WR-TIMEZONE:America/Detroit
BEGIN:VEVENT
UID:1344@votingaccessforall.org
DTSTART;TZID=America/Detroit:20260429T090000
DTEND;TZID=America/Detroit:20260429T170000
DTSTAMP:20260408T163836Z
URL:https://votingaccessforall.org/events/capitol-day-2026-dia-de-capitoli
 o-2026-michigan-united-reproductive-freedom-for-all-michigan/
SUMMARY:Capitol Day 2026/Dia de Capitolio 2026 - Michigan United\, Reproduc
 tive Freedom for All Michigan\, Black Voters Matter\, and VAAC
DESCRIPTION:On Wednesday\, April 29\, we're not just showing up in Lansing
 . We're sending a message from the working class to the halls of corporate
  power: We see what you're doing\, and we're fighting back.\nAcross the c
 ountry and here in Michigan\, the attacks are escalating—on our freedoms
 \, our schools\, our paychecks\, our healthcare\, and our very democracy. 
 While billionaires and lobbyists write the rules\, working people are left
  to pick up the pieces. That ends now.\nCapitol Day 2026 is a statewide de
 monstration of people power.\nVAAC is joining with Michigan United\, Repro
 ductive Freedom for All Michigan\, Black Voters Matter\, and a statewide c
 oalition are bringing the fight to the Capitol with a full day of collecti
 ve resistance from 9 a.m. to 5 p.m.\nWe're demanding voting rights\, repr
 oductive freedom\, universal healthcare\, corporate accountability\, and a
  tax system that works for the people—not the rich.\nFree buses from De
 troit\, Grand Rapids\, Flint\, and Saginaw will get you there.\nNow is the
  time to raise our voices—and make them feel the pressure.\nQuestions? 
 Reach out to contact@votingaccessforall.org\nRegister here\n-----\n\nNos 
 complace invitarlo a al Día del Capitolio 2026 el miércoles 29 de abri
 l en Lansing\, organizado por Michigan United y organizaciones colaborador
 as. La programación formal se llevará a cabo entre las 9 a.m. y las 5 p.
 m. Incluirá reuniones con legisladores estatales y una acción directa.\n
 \nTransporte: Habrá autobuses desde Detroit\, Grand Rapids\, Saginaw y Fl
 int.\n\n¿Preguntas o inquietudes? Envíe un correo electrónico a edillio
 n@miunited.org.\n\n\n\n*This event is being organized by Michigan United. 
 Please direct questions regarding this event to these organizations. Thank
  you!
ATTACH;FMTTYPE=image/jpeg:https://votingaccessforall.org/wp-content/upload
 s/2026/03/Cap-Day-Steps-25.png
CATEGORIES:Capitol Days/Lobby Days
LOCATION:https://secure.ngpvan.com/jUsVbEKUiEafYoX3CImxWg2
END:VEVENT
BEGIN:VTIMEZONE
TZID:America/Detroit
X-LIC-LOCATION:America/Detroit
BEGIN:DAYLIGHT
DTSTART:20260308T030000
TZOFFSETFROM:-0500
TZOFFSETTO:-0400
TZNAME:EDT
END:DAYLIGHT
END:VTIMEZONE
END:VCALENDAR