BEGIN:VCALENDAR
VERSION:2.0
PRODID:-//wp-events-plugin.com//7.2.3.1//EN
TZID:America/Detroit
X-WR-TIMEZONE:America/Detroit
BEGIN:VEVENT
UID:382@votingaccessforall.org
DTSTART;TZID=America/Detroit:20231004T140000
DTEND;TZID=America/Detroit:20231004T140000
DTSTAMP:20230922T210943Z
URL:https://votingaccessforall.org/events/50-years-of-mass-incarceration-c
 ampaign-update-webinar/
SUMMARY:50 Years of Mass Incarceration Campaign Update Webinar
DESCRIPTION:\nThis year\, The Sentencing Project and a coalition of advocat
 es\, experts\, and partners launched a public education campaign\, 50 Year
 s and a Wake Up: Ending The Mass Incarceration Crisis In America\, designe
 d to raise awareness about the dire state of the criminal legal system in 
 the country. Join The Sentencing Project (TSP) and the National Associatio
 n of Criminal Defense Lawyers (NACDL) along with other campaign partners t
 o learn campaign developments on challenging mass incarceration and next s
 teps we can take together. Kristen Budd\, The Sentencing Project LaToya Be
 ll\, Ohio Justice Policy Center James Dold\, Human Rights for Kids L.B. Ei
 sen\, Brennan Center for Justice Bill Mefford\, The Festival Center Marta 
 Nelson\, Vera Institute for Justice Stephanie Shepard\, Last Prisoner Proj
 ect Ronald Simpson-Bey\, JustLeadership USA Ebony Underwood\, WE GOT US NO
 W! Moderated by Nicole D. Porter\, TSP and Monica L. Reid\, NACDL\n\n\n\nO
 ct 4\, 2023 2:00 PM\n
ATTACH;FMTTYPE=image/jpeg:https://votingaccessforall.org/wp-content/upload
 s/2023/09/sentencing-proj.png
CATEGORIES:Community Events
LOCATION:https://us02web.zoom.us/webinar/register/WN_vfi6YrMSTNKGeircBqxpUQ
 ?emci=dfec0a36-8f58-ee11-9937-00224832eb73&emdi=64e88f5d-5059-ee11-9937-00
 224832eb73&ceid=10202532#/registration
END:VEVENT
BEGIN:VTIMEZONE
TZID:America/Detroit
X-LIC-LOCATION:America/Detroit
BEGIN:DAYLIGHT
DTSTART:20230312T030000
TZOFFSETFROM:-0500
TZOFFSETTO:-0400
TZNAME:EDT
END:DAYLIGHT
END:VTIMEZONE
END:VCALENDAR