BEGIN:VCALENDAR
VERSION:2.0
PRODID:-//wp-events-plugin.com//7.2.3.1//EN
TZID:America/Detroit
X-WR-TIMEZONE:America/Detroit
BEGIN:VEVENT
UID:1404@votingaccessforall.org
DTSTART;TZID=America/Detroit:20260725T120000
DTEND;TZID=America/Detroit:20260725T200000
DTSTAMP:20260420T231732Z
URL:https://votingaccessforall.org/es/events/womb-liberation-festival/
SUMMARY:Womb Liberation Festival
DESCRIPTION:SAVE THE DATE! Saturday JULY 25th\, 2026. Bring the entire fami
 ly. The Wisdom Institute can't wait to celebrate with you.~FREE ADMISSION~
 FOOD~GAMES~ART~HEALING ACTIVITIES~ENTERTAINMENT &amp\; FUN~COMMUNITY EDUCA
 TION &amp\; ENGAGEMENT~VENDORS~ETC.\n\nCelebrating the International Day o
 f Women and Girls of African Descent!
ATTACH;FMTTYPE=image/jpeg:https://votingaccessforall.org/wp-content/upload
 s/2026/04/672682907_992796690069474_2988189262322725860_n.jpg
CATEGORIES:Community Events
END:VEVENT
BEGIN:VTIMEZONE
TZID:America/Detroit
X-LIC-LOCATION:America/Detroit
BEGIN:DAYLIGHT
DTSTART:20260308T030000
TZOFFSETFROM:-0500
TZOFFSETTO:-0400
TZNAME:EDT
END:DAYLIGHT
END:VTIMEZONE
END:VCALENDAR