BEGIN:VCALENDAR
VERSION:2.0
PRODID:-//wp-events-plugin.com//7.2.3.1//EN
TZID:America/Detroit
X-WR-TIMEZONE:America/Detroit
BEGIN:VEVENT
UID:1058@votingaccessforall.org
DTSTART;TZID=America/Detroit:20250523T123000
DTEND;TZID=America/Detroit:20250523T133000
DTSTAMP:20250520T014222Z
URL:https://votingaccessforall.org/es/events/vaac-community-meetings-all-a
 re-welcome/
SUMMARY:VAAC Community Meetings- All Are Welcome!
DESCRIPTION:New proposals in Michigan would require people to prove their c
 itizenship to vote. These efforts create barriers that fall hardest on peo
 ple already navigating systemic obstacles.\nJoin this week’s VAAC Friday
  Community Meeting to learn more about what’s being proposed and what it
  could mean for voters across the state.\n🗓️ Friday\, May 23🕧 12:3
 0 to 1:30 PM EST🔗 Register: bit.ly/VAACmeeting📍 Virtual on Zoom\nCom
 e get the info and bring your questions. Everyone is welcome.\n\n\n
ATTACH;FMTTYPE=image/jpeg:https://votingaccessforall.org/wp-content/upload
 s/2025/05/Join-us-every-Friday-@-1230-PM-ET-via-zoom.-1.png
CATEGORIES:VAAC Meetings
LOCATION:http://bit.ly/VAACmeeting
END:VEVENT
BEGIN:VTIMEZONE
TZID:America/Detroit
X-LIC-LOCATION:America/Detroit
BEGIN:DAYLIGHT
DTSTART:20250309T030000
TZOFFSETFROM:-0500
TZOFFSETTO:-0400
TZNAME:EDT
END:DAYLIGHT
END:VTIMEZONE
END:VCALENDAR