BEGIN:VCALENDAR
VERSION:2.0
PRODID:-//wp-events-plugin.com//7.2.3.1//EN
TZID:America/Detroit
X-WR-TIMEZONE:America/Detroit
BEGIN:VEVENT
UID:690@votingaccessforall.org
DTSTART;TZID=America/Detroit:20240407T110000
DTEND;TZID=America/Detroit:20240407T133000
DTSTAMP:20240430T015224Z
URL:https://votingaccessforall.org/es/events/strategic-communications-in-c
 riminal-legal-reform-virtual/
SUMMARY:Strategic Communications in Criminal Legal Reform (Virtual)
DESCRIPTION:\nMay 7\, 2024 from 11:00am-1:30pm\n\n\n\nJoin us\, MI-CEMI\, a
 nd Progress Michigan to connect with other communication leaders to learn 
 pro-tips on social media messaging and explore how to collaborate to chang
 e the narrative on public safety and mass incarceration. \n\n\n\nbit.ly/jo
 inusmay7th\n
ATTACH;FMTTYPE=image/jpeg:https://votingaccessforall.org/wp-content/upload
 s/2024/04/unnamed-1.jpeg
CATEGORIES:Community Events
LOCATION:http://bit.ly/joinusmay7th
END:VEVENT
BEGIN:VTIMEZONE
TZID:America/Detroit
X-LIC-LOCATION:America/Detroit
BEGIN:DAYLIGHT
DTSTART:20240310T030000
TZOFFSETFROM:-0500
TZOFFSETTO:-0400
TZNAME:EDT
END:DAYLIGHT
END:VTIMEZONE
END:VCALENDAR