BEGIN:VCALENDAR
VERSION:2.0
PRODID:-//wp-events-plugin.com//7.2.3.1//EN
TZID:America/Detroit
X-WR-TIMEZONE:America/Detroit
BEGIN:VEVENT
UID:132@votingaccessforall.org
DTSTART;TZID=America/Detroit:20230311T180000
DTEND;TZID=America/Detroit:20230311T210000
DTSTAMP:20230303T184456Z
URL:https://votingaccessforall.org/es/events/silent-cry-inc-awards-gala/
SUMMARY:Silent Cry Inc Awards Gala
DESCRIPTION:Honoring Mothers of the CJ movement &amp\; Changemakers in the 
 community. Fundraising for Daniel Jones Scholarship fund &amp\; Harvesting
  Hope.\n\nOur very own Kathi Harris and so many friends and leaders in our
  community will be honored!\n\n&nbsp\;\n\nGet tickets here:\n\nhttps://www
 .eventbrite.com/e/silent-cry-inc-awards-gala-tickets-525186265257?aff=efbn
 eb
ATTACH;FMTTYPE=image/jpeg:https://votingaccessforall.org/wp-content/upload
 s/2023/01/Drafts-of-Silent-Cry-Gala-slides-1.png
CATEGORIES:Community Events
LOCATION:Marygrove College\, 8425 West McNichols Rd.\, Detroit\, MI\, 48221
 \, Estados Unidos
GEO:42.414854;-83.15619
X-APPLE-STRUCTURED-LOCATION;VALUE=URI;X-ADDRESS=8425 West McNichols Rd.\, D
 etroit\, MI\, 48221\, Estados Unidos;X-APPLE-RADIUS=100;X-TITLE=Marygrove 
 College:geo:42.414854,-83.15619
END:VEVENT
BEGIN:VTIMEZONE
TZID:America/Detroit
X-LIC-LOCATION:America/Detroit
BEGIN:STANDARD
DTSTART:20221106T010000
TZOFFSETFROM:-0400
TZOFFSETTO:-0500
TZNAME:EST
END:STANDARD
END:VTIMEZONE
END:VCALENDAR