BEGIN:VCALENDAR
VERSION:2.0
PRODID:-//wp-events-plugin.com//7.2.3.1//EN
TZID:America/Detroit
X-WR-TIMEZONE:America/Detroit
BEGIN:VEVENT
UID:1225@votingaccessforall.org
DTSTART;TZID=America/Detroit:20251023T180000
DTEND;TZID=America/Detroit:20251023T200000
DTSTAMP:20251008T174111Z
URL:https://votingaccessforall.org/es/events/reimagining-public-safety-com
 munity-policing-best-practices/
SUMMARY:Reimagining Public Safety: Community & Policing Best Practices
DESCRIPTION:Join us for an evening of powerful dialogue on how we can stren
 gthen community engagement in policing practices. This event will feature 
 panel conversations with law enforcement and community leaders on best pra
 ctices for building trust\, accountability\, and safer neighborhoods.\n
 🗓️ Thursday\, October 23\, 2025⏰ 6:00 PM – 8:00 PM📍 The New Mc
 Cree Theatre\, 4601 Clio Rd\, Flint\, MI 48504\n✅ Light refreshments pro
 vided👉 RSVP here: https://bit.ly/454lweX\nFor more info: Dez @ 586.744.
 3889
ATTACH;FMTTYPE=image/jpeg:https://votingaccessforall.org/wp-content/upload
 s/2025/10/3819191699014607962.png
CATEGORIES:Community Events
LOCATION:The New McCree Theatre\, 4601 Clio Rd\, Flint\, MI\, 48504\, Estad
 os Unidos
GEO:43.056222;-83.733844
X-APPLE-STRUCTURED-LOCATION;VALUE=URI;X-ADDRESS=4601 Clio Rd\, Flint\, MI\,
  48504\, Estados Unidos;X-APPLE-RADIUS=100;X-TITLE=The New McCree Theatre:
 geo:43.056222,-83.733844
END:VEVENT
BEGIN:VTIMEZONE
TZID:America/Detroit
X-LIC-LOCATION:America/Detroit
BEGIN:DAYLIGHT
DTSTART:20250309T030000
TZOFFSETFROM:-0500
TZOFFSETTO:-0400
TZNAME:EDT
END:DAYLIGHT
END:VTIMEZONE
END:VCALENDAR