BEGIN:VCALENDAR
VERSION:2.0
PRODID:-//wp-events-plugin.com//7.2.3.1//EN
TZID:America/Detroit
X-WR-TIMEZONE:America/Detroit
BEGIN:VEVENT
UID:975@votingaccessforall.org
DTSTART;TZID=America/Detroit:20250324T183000
DTEND;TZID=America/Detroit:20250324T200000
DTSTAMP:20250316T184114Z
URL:https://votingaccessforall.org/es/events/reclaiming-our-power-with-joc
 elyn-benson-womens-history-month-event/
SUMMARY:Reclaiming Our Power with Jocelyn Benson – Women’s History Mont
 h Event!
DESCRIPTION:\nThis special evening will bring together Jocelyn Benson\, too
  many elected officials to mention\, and fierce women leaders to celebrate
  our strength\, resilience\, and impact.\n\n\n\nDon’t miss this chance t
 o connect\, get inspired\, and stand together for women’s rights and dem
 ocracy!\n\n\n\n&nbsp\;Monday\, March 24th\n\n\n\n&nbsp\;6:30 – 8:00 PM\n
 \n\n\n&nbsp\;Location in Southfield Area\, address provided upon RSVP\n\n\
 n\nRSVP now and let’s reclaim our power!RSVP HERE: https://actionnetwor
 k.org/events/reclaiming-our-power-a-womens-history-month-event?fbclid=IwY2
 xjawJD-gNleHRuA2FlbQIxMAABHbPNiZHXDwsjOvZVGHqfNPbUDy4yoLj4hE8FyvXiW0ExpN1s
 9Y6tgMnduA_aem_atnZBNcYy7nrM1aW7cieBg\n\n\n\nP.S. In the spirit of Rosie t
 he Riveter\, we encourage you to wear a red bandanna\, jean jacket\, or de
 nim shirt as a symbol of solidarity and power.\n
CATEGORIES:VAAC Meetings
LOCATION:https://actionnetwork.org/events/reclaiming-our-power-a-womens-his
 tory-month-event?fbclid=IwY2xjawJD-gNleHRuA2FlbQIxMAABHbPNiZHXDwsjOvZVGHqf
 NPbUDy4yoLj4hE8FyvXiW0ExpN1s9Y6tgMnduA_aem_atnZBNcYy7nrM1aW7cieBg
END:VEVENT
BEGIN:VTIMEZONE
TZID:America/Detroit
X-LIC-LOCATION:America/Detroit
BEGIN:DAYLIGHT
DTSTART:20250309T030000
TZOFFSETFROM:-0500
TZOFFSETTO:-0400
TZNAME:EDT
END:DAYLIGHT
END:VTIMEZONE
END:VCALENDAR