BEGIN:VCALENDAR
VERSION:2.0
PRODID:-//wp-events-plugin.com//7.2.3.1//EN
TZID:America/Detroit
X-WR-TIMEZONE:America/Detroit
BEGIN:VEVENT
UID:1017@votingaccessforall.org
DTSTART;TZID=America/Detroit:20250412T100000
DTEND;TZID=America/Detroit:20250412T140000
DTSTAMP:20250409T201757Z
URL:https://votingaccessforall.org/es/events/pull-over-prevention-mutual-a
 id-fair/
SUMMARY:Pull Over Prevention & Mutual Aid Fair
DESCRIPTION:4/12/25 from 10 AM - 2 PM\n\nPeace Neighborhood Center\, 1111 N
  Maple Rd\, Ann Arbor\, MI\nPull Over Prevention + Mutual Aid Fair aims to
  build community and end policing.\nVaccines TBA\nWanna volunteer? bit.ly
 /POP-SignUp\nWanna donate? bit.ly/POP-Donate\nWe provide free car repair 
 of lights\, tires\, and fluids to help prevent interactions with law enfor
 cement. We also partner with many other organizations to offer additional 
 resources:\n- Vaccines (Washtenaw County Health Department &amp\; Packard 
 Health)\n- Harm reduction supplies (Peace House\, Home of New Vision)\n- P
 et supplies (Pet Pals Mutual Aid)\n- Street survival resources and hygiene
  kits\nand more!\nFree lunch provided by FedUp Ministries!
ATTACH;FMTTYPE=image/jpeg:https://votingaccessforall.org/wp-content/upload
 s/2025/04/489828834_1241602974632881_8110225289753905045_n.jpg
CATEGORIES:Community Events
LOCATION:Peace Neighborhood Center\, 1111 N Maple Rd.\, Ann Arbor\, MI\, Es
 tados Unidos
GEO:42.292334;-83.781409
X-APPLE-STRUCTURED-LOCATION;VALUE=URI;X-ADDRESS=1111 N Maple Rd.\, Ann Arbo
 r\, MI\, Estados Unidos;X-APPLE-RADIUS=100;X-TITLE=Peace Neighborhood Cent
 er:geo:42.292334,-83.781409
END:VEVENT
BEGIN:VTIMEZONE
TZID:America/Detroit
X-LIC-LOCATION:America/Detroit
BEGIN:DAYLIGHT
DTSTART:20250309T030000
TZOFFSETFROM:-0500
TZOFFSETTO:-0400
TZNAME:EDT
END:DAYLIGHT
END:VTIMEZONE
END:VCALENDAR