BEGIN:VCALENDAR
VERSION:2.0
PRODID:-//wp-events-plugin.com//7.2.3.1//EN
TZID:America/Detroit
X-WR-TIMEZONE:America/Detroit
BEGIN:VEVENT
UID:1351@votingaccessforall.org
DTSTART;TZID=America/Detroit:20260915T000000
DTEND;TZID=America/Detroit:20260915T000000
DTSTAMP:20260312T155356Z
URL:https://votingaccessforall.org/es/events/national-voter-registration-d
 ay-3/
SUMMARY:National Voter Registration Day
DESCRIPTION:National Voter Registration Day is a nonpartisan civic holiday 
 dedicated to celebrating our democracy. Since its kickoff in 2012\, the ho
 liday and its team of thousands of Partners have worked to get over 6.5
  million Americans registered to vote in time for their next trip to the 
 ballot box.\n\nCelebrated each September\, National Voter Registration Day
  involves dedicated Partners of every stripe from all over the country hit
 ting the streets for a single star-spangled awesome day of coordinated fie
 ld\, digital\, and media action focused squarely on growing our shared dem
 ocracy.\n\nMark your calendar for this year’s celebration on Tuesday\, 
 September 15th!
ATTACH;FMTTYPE=image/jpeg:https://votingaccessforall.org/wp-content/upload
 s/2026/03/nvrdlogo-300ppi-300x300-1.webp
CATEGORIES:Community Events
END:VEVENT
BEGIN:VTIMEZONE
TZID:America/Detroit
X-LIC-LOCATION:America/Detroit
BEGIN:DAYLIGHT
DTSTART:20260308T030000
TZOFFSETFROM:-0500
TZOFFSETTO:-0400
TZNAME:EDT
END:DAYLIGHT
END:VTIMEZONE
END:VCALENDAR