BEGIN:VCALENDAR
VERSION:2.0
PRODID:-//wp-events-plugin.com//7.2.3.1//EN
TZID:America/Detroit
X-WR-TIMEZONE:America/Detroit
BEGIN:VEVENT
UID:1352@votingaccessforall.org
DTSTART;TZID=America/Detroit:20261005T000000
DTEND;TZID=America/Detroit:20261009T000000
DTSTAMP:20260312T155745Z
URL:https://votingaccessforall.org/es/events/national-voter-education-week
 /
SUMMARY:National Voter Education Week
DESCRIPTION:National Voter Education Week (NVEW) is an open-source\, nonpar
 tisan voter education campaign held annually during the first full week of
  October. NVEW equips voters with the tools and information they need to c
 ast their ballots with confidence\, serving as a resource hub for leaders 
 of any community and context who want to help their networks make their vo
 ices heard at the ballot box. NVEW is a concerted effort of hundreds of pa
 rtners across different sectors\, all working together to support voters.\
 n\nDuring this week of interactive education\, NVEW partners help eligible
  voters find their polling location\, understand their ballot\, make a pla
 n to vote\, and more. Since 2020\, thousands of local\, state\, and nation
 al partners have worked together to educate millions of voters throughout 
 the country in partnership with NVEW.\n\nOctober 5-9\, 2026
ATTACH;FMTTYPE=image/jpeg:https://votingaccessforall.org/wp-content/upload
 s/2026/03/066c257e-2371-4813-9255-2874fef3ef81-768x272-1.png
CATEGORIES:Community Events
END:VEVENT
BEGIN:VTIMEZONE
TZID:America/Detroit
X-LIC-LOCATION:America/Detroit
BEGIN:DAYLIGHT
DTSTART:20260308T030000
TZOFFSETFROM:-0500
TZOFFSETTO:-0400
TZNAME:EDT
END:DAYLIGHT
END:VTIMEZONE
END:VCALENDAR