BEGIN:VCALENDAR
VERSION:2.0
PRODID:-//wp-events-plugin.com//7.2.3.1//EN
TZID:America/Detroit
X-WR-TIMEZONE:America/Detroit
BEGIN:VEVENT
UID:1365@votingaccessforall.org
DTSTART;TZID=America/Detroit:20260516T100000
DTEND;TZID=America/Detroit:20260516T150000
DTSTAMP:20260323T191130Z
URL:https://votingaccessforall.org/es/events/detroit-warrant-clinic-4/
SUMMARY:Detroit Warrant Clinic
DESCRIPTION:Join us for Our Own Wall Street’s Detroit Warrant Clinic May 
 16\, 2026 from 10AM-3PM! If you have an arrest warrant from the City of De
 troit for traffic tickets or misdemeanors we’re here to assist you. Use 
 the QR code or this link to register.\n\nFor m0re info\, contact: info@our
 ownwallstreet.org\n\n📍Butzel Family Recreation Center\, 7737 Kercheval 
 St.\, Detroit\, MI\n\nNO FEAR OF ARREST!
ATTACH;FMTTYPE=image/jpeg:https://votingaccessforall.org/wp-content/upload
 s/2026/03/656751200_18087643832235455_5681634063635590669_n.jpg
CATEGORIES:Warrant / Road to Restoration Clinics
LOCATION:Butzel Family Recreation Center\, 7737 Kercheval\, Detroit\, MI\, 
 48214\, Estados Unidos
GEO:42.358665;-83.001871
X-APPLE-STRUCTURED-LOCATION;VALUE=URI;X-ADDRESS=7737 Kercheval\, Detroit\, 
 MI\, 48214\, Estados Unidos;X-APPLE-RADIUS=100;X-TITLE=Butzel Family Recre
 ation Center:geo:42.358665,-83.001871
END:VEVENT
BEGIN:VTIMEZONE
TZID:America/Detroit
X-LIC-LOCATION:America/Detroit
BEGIN:DAYLIGHT
DTSTART:20260308T030000
TZOFFSETFROM:-0500
TZOFFSETTO:-0400
TZNAME:EDT
END:DAYLIGHT
END:VTIMEZONE
END:VCALENDAR