BEGIN:VCALENDAR
VERSION:2.0
PRODID:-//wp-events-plugin.com//7.2.3.1//EN
TZID:America/Detroit
X-WR-TIMEZONE:America/Detroit
BEGIN:VEVENT
UID:1227@votingaccessforall.org
DTSTART;TZID=America/Detroit:20251021T180000
DTEND;TZID=America/Detroit:20251021T193000
DTSTAMP:20251010T143630Z
URL:https://votingaccessforall.org/es/events/community-forums-3/
SUMMARY:Community Forums
DESCRIPTION:Bring your friends\, family\, &amp\; neighbors for an informati
 ve evening about building safer\, more transparent communities.\n\nOct 21s
 t @ 6-7:30pm\n\nIncubizo\, 1938 Burdette St.\, Ferndale\, MI 48220\n\nJoin
  the Conversation:\n\nWhat dashboards are\n\nHow dashboards build trust be
 tween police and communities\n\nYour vision of safer\, more transparent co
 mmunities\n\nRegional Conversation\n\nLight refreshments provided\n\nFor m
 ore information:\n\nJosh: RestorativeProgram@gmail.com\n\nDez: dsquire@MIR
 oundtable.org
CATEGORIES:Community Events
LOCATION:Incubizo\, 1938 Burdette St.\,  Ferndale\, MI\, 48220\, Estados Un
 idos
GEO:42.461845;-83.125983
X-APPLE-STRUCTURED-LOCATION;VALUE=URI;X-ADDRESS=1938 Burdette St.\,  Fernda
 le\, MI\, 48220\, Estados Unidos;X-APPLE-RADIUS=100;X-TITLE=Incubizo:geo:4
 2.461845,-83.125983
END:VEVENT
BEGIN:VTIMEZONE
TZID:America/Detroit
X-LIC-LOCATION:America/Detroit
BEGIN:DAYLIGHT
DTSTART:20250309T030000
TZOFFSETFROM:-0500
TZOFFSETTO:-0400
TZNAME:EDT
END:DAYLIGHT
END:VTIMEZONE
END:VCALENDAR