BEGIN:VCALENDAR
VERSION:2.0
PRODID:-//wp-events-plugin.com//7.2.3.1//EN
TZID:America/Detroit
X-WR-TIMEZONE:America/Detroit
BEGIN:VEVENT
UID:1347@votingaccessforall.org
DTSTART;TZID=America/Detroit:20260515T150000
DTEND;TZID=America/Detroit:20260515T190000
DTSTAMP:20260310T172614Z
URL:https://votingaccessforall.org/es/events/a-brighter-ways-4th-annual-co
 mmunity-bbq/
SUMMARY:A Brighter Way's 4th Annual Community BBQ
DESCRIPTION:It's almost here! A Brighter Way's 4th Annual Community BBQ is 
 in May!\n\nMay 15th from 3-7pm at Riverside Park\, 2 E Cross St\, Ypsilant
 i\, MI 48198\n\nPlease fill out the following form if you are interested i
 n tabling: Organizations Please RSVP here\n\nFor those interested in Volun
 teering please reach out to Nikki at: supports@abrighterway.orgPlease incl
 ude: Phone#\, Time available (Set-Up is at 1pm/BBQ 3-7pm/Break Down 7pm)\,
  and any accommodations needed. (Sitting\, Standing\, ect..)*Please note t
 hat Set-Up and Break Down may require lifting\, opening tents\, moving cha
 irs and tables\, helping Orgs set-up/break down\,ect
ATTACH;FMTTYPE=image/jpeg:https://votingaccessforall.org/wp-content/upload
 s/2026/03/649650311_1224175753232651_2046598187642062388_n.jpg
CATEGORIES:Community Events
LOCATION:Riverside Park\, 2 E Cross St\, Ypsilanti\, MI\, 48198\, Estados U
 nidos
GEO:42.243492;-83.611229
X-APPLE-STRUCTURED-LOCATION;VALUE=URI;X-ADDRESS=2 E Cross St\, Ypsilanti\, 
 MI\, 48198\, Estados Unidos;X-APPLE-RADIUS=100;X-TITLE=Riverside Park:geo:
 42.243492,-83.611229
END:VEVENT
BEGIN:VTIMEZONE
TZID:America/Detroit
X-LIC-LOCATION:America/Detroit
BEGIN:DAYLIGHT
DTSTART:20260308T030000
TZOFFSETFROM:-0500
TZOFFSETTO:-0400
TZNAME:EDT
END:DAYLIGHT
END:VTIMEZONE
END:VCALENDAR