BEGIN:VCALENDAR
VERSION:2.0
PRODID:-//wp-events-plugin.com//7.2.3.1//EN
TZID:America/Detroit
X-WR-TIMEZONE:America/Detroit
BEGIN:VEVENT
UID:1010@votingaccessforall.org
DTSTART;TZID=America/Detroit:20250412T120000
DTEND;TZID=America/Detroit:20250412T160000
DTSTAMP:20250411T175636Z
URL:https://votingaccessforall.org/es/events/2025-global-empowerment-minis
 tries-expungement-fair/
SUMMARY:2025 Global Empowerment Ministries Expungement Fair
DESCRIPTION:&nbsp\;\n\n21630 W 7 Mile\, Detroit\, MI 48219\n\nJoin us on Ap
 ril 12 for an expungement fair we are hosting with partners in Detroit. Pr
 e-register for you spot and see if you are eligible for expungement under 
 Michigan's Clean Slate laws. \n\nhttps://docs.google.com/forms/d/e/1FAIpQ
 LSeq60sQsguFBtfMNmV0QnEjPocRWEssy5x6qbs-S0UYN6Nfzg/viewform?fbclid=IwY2xja
 wJhDVdleHRuA2FlbQIxMAABHuNu1AN_WsW4YNwXY1DfWq45TYBQAApacSjePio8THGHZmkDfX8
 NGelU4TFS_aem_BUJI0BoenLt9rZ11KLs9XQ
ATTACH;FMTTYPE=image/jpeg:https://votingaccessforall.org/wp-content/upload
 s/2025/04/f3eb0c9245da2eb6d43ab93c3cd748885e242b2c9ffa3b9ec7484536a89dbeaf
 -scaled.avif
CATEGORIES:Community Events
END:VEVENT
BEGIN:VTIMEZONE
TZID:America/Detroit
X-LIC-LOCATION:America/Detroit
BEGIN:DAYLIGHT
DTSTART:20250309T030000
TZOFFSETFROM:-0500
TZOFFSETTO:-0400
TZNAME:EDT
END:DAYLIGHT
END:VTIMEZONE
END:VCALENDAR